BEGIN:VCALENDAR
VERSION:2.0
PRODID:-//Moje Ząbki - ECPv6.0.6.2//NONSGML v1.0//EN
CALSCALE:GREGORIAN
METHOD:PUBLISH
X-ORIGINAL-URL:https://mojezabki.org.pl
X-WR-CALDESC:Wydarzenia dla Moje Ząbki
REFRESH-INTERVAL;VALUE=DURATION:PT1H
X-Robots-Tag:noindex
X-PUBLISHED-TTL:PT1H
BEGIN:VTIMEZONE
TZID:Europe/Warsaw
BEGIN:DAYLIGHT
TZOFFSETFROM:+0100
TZOFFSETTO:+0200
TZNAME:CEST
DTSTART:20190331T010000
END:DAYLIGHT
BEGIN:STANDARD
TZOFFSETFROM:+0200
TZOFFSETTO:+0100
TZNAME:CET
DTSTART:20191027T010000
END:STANDARD
END:VTIMEZONE
BEGIN:VEVENT
DTSTART;TZID=Europe/Warsaw:20191104T180000
DTEND;TZID=Europe/Warsaw:20191104T190000
DTSTAMP:20260424T134805
CREATED:20191103T071610Z
LAST-MODIFIED:20191103T191148Z
UID:622-1572890400-1572894000@mojezabki.org.pl
SUMMARY:Prezentacja szybkiego autobusu do Ząbek na
DESCRIPTION:W dniu 4 listopada o godz 18 w UM (sala urzędu SC) na wniosek Stowarzyszenia Moje Zabki odbędzie się spotkanie komisji Gospodarczej dot. alternatywy trasy Metrobusa.\nPrzedstawimy analizę\, koncepcję trasy Metrobusa – Radnym\, Burmistrzom i pozostałym uczestnikom spotkania.\nZapraszamy wszystkich zainteresowanych mieszkańców. \nSzczegóły prezentacji w osobnym artykule: \nKoncepcja połączenia szybką komunikacją autobusową miasta Ząbki – prezentacja
URL:https://mojezabki.org.pl/event/prezentacja-szybkiego-autobusu-do-zabek-na/
END:VEVENT
END:VCALENDAR